Package: illuminaio Version: 0.49.0 Command: /home/rapidbuild/bbs-3.21-bioc-rapid/R/bin/R CMD build --keep-empty-dirs --no-resave-data illuminaio StartedAt: 2025-02-13 13:01:19 -0500 (Thu, 13 Feb 2025) EndedAt: 2025-02-13 13:01:28 -0500 (Thu, 13 Feb 2025) EllapsedTime: 9.0 seconds RetCode: 0 Status: OK PackageFile: illuminaio_0.49.0.tar.gz PackageFileSize: 478.6 KiB