Package: illuminaio Version: 0.49.0 Command: /home/rapidbuild/bbs-3.21-bioc-rapid/R/bin/R CMD check --install=check:illuminaio.install-out.txt --library=/home/rapidbuild/bbs-3.21-bioc-rapid/R/site-library --timings illuminaio_0.49.0.tar.gz StartedAt: 2025-02-10 09:02:45 -0500 (Mon, 10 Feb 2025) EndedAt: 2025-02-10 09:03:18 -0500 (Mon, 10 Feb 2025) EllapsedTime: 33.6 seconds RetCode: 0 Status: OK CheckDir: illuminaio.Rcheck Warnings: 0