Package: illuminaio Version: 0.49.0 Command: /home/rapidbuild/bbs-3.21-bioc-rapid/R/bin/R CMD INSTALL illuminaio StartedAt: 2025-02-10 06:16:15 -0500 (Mon, 10 Feb 2025) EndedAt: 2025-02-10 06:16:19 -0500 (Mon, 10 Feb 2025) EllapsedTime: 3.4 seconds RetCode: 0 Status: OK