Package: lpsymphony Version: 1.35.0 Command: /home/rapidbuild/bbs-3.21-bioc-rapid/R/bin/R CMD check --install=check:lpsymphony.install-out.txt --library=/home/rapidbuild/bbs-3.21-bioc-rapid/R/site-library --timings lpsymphony_1.35.0.tar.gz StartedAt: 2025-02-13 14:43:30 -0500 (Thu, 13 Feb 2025) EndedAt: 2025-02-13 14:43:49 -0500 (Thu, 13 Feb 2025) EllapsedTime: 19.0 seconds RetCode: 0 Status: WARNINGS CheckDir: lpsymphony.Rcheck Warnings: 1