Package: lpsymphony Version: 1.35.0 Command: /home/rapidbuild/bbs-3.21-bioc-rapid/R/bin/R CMD INSTALL lpsymphony StartedAt: 2025-02-10 06:04:32 -0500 (Mon, 10 Feb 2025) EndedAt: 2025-02-10 06:13:22 -0500 (Mon, 10 Feb 2025) EllapsedTime: 530.2 seconds RetCode: 0 Status: OK