Package: maftools Version: 2.23.0 Command: /home/rapidbuild/bbs-3.21-bioc-rapid/R/bin/R CMD build --keep-empty-dirs --no-resave-data maftools StartedAt: 2025-02-13 13:04:37 -0500 (Thu, 13 Feb 2025) EndedAt: 2025-02-13 13:07:11 -0500 (Thu, 13 Feb 2025) EllapsedTime: 154.6 seconds RetCode: 1 Status: ERROR PackageFile: None PackageFileSize: NA