Package: mbkmeans Version: 1.23.0 Command: /home/rapidbuild/bbs-3.21-bioc-rapid/R/bin/R CMD INSTALL mbkmeans StartedAt: 2025-02-13 12:25:56 -0500 (Thu, 13 Feb 2025) EndedAt: 2025-02-13 12:26:38 -0500 (Thu, 13 Feb 2025) EllapsedTime: 42.0 seconds RetCode: 0 Status: OK