Package: openCyto Version: 2.19.0 Command: /home/rapidbuild/bbs-3.21-bioc-rapid/R/bin/R CMD check --install=check:openCyto.install-out.txt --library=/home/rapidbuild/bbs-3.21-bioc-rapid/R/site-library --timings openCyto_2.19.0.tar.gz StartedAt: 2025-02-10 09:16:10 -0500 (Mon, 10 Feb 2025) EndedAt: 2025-02-10 09:18:34 -0500 (Mon, 10 Feb 2025) EllapsedTime: 143.5 seconds RetCode: 0 Status: WARNINGS CheckDir: openCyto.Rcheck Warnings: 4