Package: openCyto Version: 2.19.0 Command: /home/rapidbuild/bbs-3.21-bioc-rapid/R/bin/R CMD INSTALL openCyto StartedAt: 2025-02-10 06:18:23 -0500 (Mon, 10 Feb 2025) EndedAt: 2025-02-10 06:18:43 -0500 (Mon, 10 Feb 2025) EllapsedTime: 20.8 seconds RetCode: 0 Status: OK