Package: regioneR Version: 1.39.0 Command: /home/rapidbuild/bbs-3.21-bioc-rapid/R/bin/R CMD build --keep-empty-dirs --no-resave-data regioneR StartedAt: 2025-02-04 13:20:03 -0500 (Tue, 04 Feb 2025) EndedAt: 2025-02-04 13:21:19 -0500 (Tue, 04 Feb 2025) EllapsedTime: 76.6 seconds RetCode: 1 Status: ERROR PackageFile: None PackageFileSize: NA