Package: regioneR Version: 1.39.0 Command: /home/rapidbuild/bbs-3.21-bioc-rapid/R/bin/R CMD INSTALL regioneR StartedAt: 2025-02-10 06:26:17 -0500 (Mon, 10 Feb 2025) EndedAt: 2025-02-10 06:26:48 -0500 (Mon, 10 Feb 2025) EllapsedTime: 30.7 seconds RetCode: 0 Status: OK