Package: rpx Version: 2.15.1 Maintainer: Laurent Gatto MaintainerEmail: laurent.gatto at uclouvain.be git_url: https://git.bioconductor.org/packages/rpx git_branch: devel git_last_commit: ca86c88 git_last_commit_date: 2025-02-07 10:47:02 -0500 (Fri, 07 Feb 2025)