Package: rpx Version: 2.15.1 Command: /home/rapidbuild/bbs-3.21-bioc-rapid/R/bin/R CMD build --keep-empty-dirs --no-resave-data rpx StartedAt: 2025-02-10 07:33:44 -0500 (Mon, 10 Feb 2025) EndedAt: 2025-02-10 07:34:10 -0500 (Mon, 10 Feb 2025) EllapsedTime: 26.3 seconds RetCode: 0 Status: OK PackageFile: rpx_2.15.1.tar.gz PackageFileSize: 316.9 KiB