Package: rpx Version: 2.15.1 Command: /home/rapidbuild/bbs-3.21-bioc-rapid/R/bin/R CMD check --install=check:rpx.install-out.txt --library=/home/rapidbuild/bbs-3.21-bioc-rapid/R/site-library --timings rpx_2.15.1.tar.gz StartedAt: 2025-02-10 09:25:46 -0500 (Mon, 10 Feb 2025) EndedAt: 2025-02-10 09:26:58 -0500 (Mon, 10 Feb 2025) EllapsedTime: 71.7 seconds RetCode: 0 Status: OK CheckDir: rpx.Rcheck Warnings: 0