Package: rpx Version: 2.15.1 Command: /home/rapidbuild/bbs-3.21-bioc-rapid/R/bin/R CMD INSTALL rpx StartedAt: 2025-02-10 06:18:11 -0500 (Mon, 10 Feb 2025) EndedAt: 2025-02-10 06:18:16 -0500 (Mon, 10 Feb 2025) EllapsedTime: 4.2 seconds RetCode: 0 Status: OK