Package: rtracklayer Version: 1.67.0 Command: /home/rapidbuild/bbs-3.21-bioc-rapid/R/bin/R CMD INSTALL rtracklayer StartedAt: 2025-02-13 12:22:42 -0500 (Thu, 13 Feb 2025) EndedAt: 2025-02-13 12:23:24 -0500 (Thu, 13 Feb 2025) EllapsedTime: 41.8 seconds RetCode: 0 Status: OK