Package: scater Version: 1.35.1 Maintainer: Alan O'Callaghan MaintainerEmail: alan.ocallaghan at outlook.com git_url: https://git.bioconductor.org/packages/scater git_branch: devel git_last_commit: 3fc1ffa git_last_commit_date: 2025-01-31 16:15:29 -0500 (Fri, 31 Jan 2025)