Package: snpStats Version: 1.57.0 Command: /home/rapidbuild/bbs-3.21-bioc-rapid/R/bin/R CMD build --keep-empty-dirs --no-resave-data snpStats StartedAt: 2025-02-10 07:42:14 -0500 (Mon, 10 Feb 2025) EndedAt: 2025-02-10 07:42:40 -0500 (Mon, 10 Feb 2025) EllapsedTime: 26.0 seconds RetCode: 1 Status: ERROR PackageFile: None PackageFileSize: NA