Package: snpStats Version: 1.57.0 Command: /home/rapidbuild/bbs-3.21-bioc-rapid/R/bin/R CMD INSTALL snpStats StartedAt: 2025-02-05 06:09:19 -0500 (Wed, 05 Feb 2025) EndedAt: 2025-02-05 06:09:36 -0500 (Wed, 05 Feb 2025) EllapsedTime: 17.5 seconds RetCode: 0 Status: OK