Package: sva Version: 3.55.0 Command: /home/rapidbuild/bbs-3.21-bioc-rapid/R/bin/R CMD build --keep-empty-dirs --no-resave-data sva StartedAt: 2025-02-10 07:44:43 -0500 (Mon, 10 Feb 2025) EndedAt: 2025-02-10 07:45:28 -0500 (Mon, 10 Feb 2025) EllapsedTime: 44.6 seconds RetCode: 0 Status: OK PackageFile: sva_3.55.0.tar.gz PackageFileSize: 442.4 KiB