Package: sva Version: 3.55.0 Command: /home/rapidbuild/bbs-3.21-bioc-rapid/R/bin/R CMD check --install=check:sva.install-out.txt --library=/home/rapidbuild/bbs-3.21-bioc-rapid/R/site-library --timings sva_3.55.0.tar.gz StartedAt: 2025-02-13 15:17:51 -0500 (Thu, 13 Feb 2025) EndedAt: 2025-02-13 15:21:05 -0500 (Thu, 13 Feb 2025) EllapsedTime: 193.7 seconds RetCode: 0 Status: OK CheckDir: sva.Rcheck Warnings: 0