Package: xcms Version: 4.5.2 Command: /home/rapidbuild/bbs-3.21-bioc-rapid/R/bin/R CMD INSTALL xcms StartedAt: 2025-02-11 06:22:38 -0500 (Tue, 11 Feb 2025) EndedAt: 2025-02-11 06:23:58 -0500 (Tue, 11 Feb 2025) EllapsedTime: 80.1 seconds RetCode: 0 Status: OK