Package: zellkonverter Version: 1.17.0 Command: /home/rapidbuild/bbs-3.21-bioc-rapid/R/bin/R CMD build --keep-empty-dirs --no-resave-data zellkonverter StartedAt: 2025-02-10 07:49:14 -0500 (Mon, 10 Feb 2025) EndedAt: 2025-02-10 07:50:12 -0500 (Mon, 10 Feb 2025) EllapsedTime: 58.4 seconds RetCode: 0 Status: OK PackageFile: zellkonverter_1.17.0.tar.gz PackageFileSize: 1.127 MiB