Package: zellkonverter Version: 1.17.0 Command: /home/rapidbuild/bbs-3.21-bioc-rapid/R/bin/R CMD check --install=check:zellkonverter.install-out.txt --library=/home/rapidbuild/bbs-3.21-bioc-rapid/R/site-library --timings zellkonverter_1.17.0.tar.gz StartedAt: 2025-02-10 09:49:58 -0500 (Mon, 10 Feb 2025) EndedAt: 2025-02-10 09:58:00 -0500 (Mon, 10 Feb 2025) EllapsedTime: 482.0 seconds RetCode: 0 Status: OK CheckDir: zellkonverter.Rcheck Warnings: 0