Package: zellkonverter Version: 1.17.0 Command: /home/rapidbuild/bbs-3.21-bioc-rapid/R/bin/R CMD INSTALL zellkonverter StartedAt: 2025-02-10 06:20:22 -0500 (Mon, 10 Feb 2025) EndedAt: 2025-02-10 06:20:38 -0500 (Mon, 10 Feb 2025) EllapsedTime: 16.4 seconds RetCode: 0 Status: OK