Package: BiocVersion Version: 3.21.1 Command: /home/rapidbuild/bbs-3.21-bioc-rapid/R/bin/R CMD build --keep-empty-dirs --no-resave-data BiocVersion StartedAt: 2025-02-13 12:34:29 -0500 (Thu, 13 Feb 2025) EndedAt: 2025-02-13 12:34:30 -0500 (Thu, 13 Feb 2025) EllapsedTime: 1.0 seconds RetCode: 0 Status: OK PackageFile: BiocVersion_3.21.1.tar.gz PackageFileSize: 999 bytes