Package: EBImage Version: 4.49.0 Command: /home/rapidbuild/bbs-3.21-bioc-rapid/R/bin/R CMD build --keep-empty-dirs --no-resave-data EBImage StartedAt: 2025-02-09 06:46:22 -0500 (Sun, 09 Feb 2025) EndedAt: 2025-02-09 06:47:12 -0500 (Sun, 09 Feb 2025) EllapsedTime: 49.6 seconds RetCode: 0 Status: OK PackageFile: EBImage_4.49.0.tar.gz PackageFileSize: 5.209 MiB