Package: EBImage Version: 4.49.0 Command: /home/rapidbuild/bbs-3.21-bioc-rapid/R/bin/R CMD check --install=check:EBImage.install-out.txt --library=/home/rapidbuild/bbs-3.21-bioc-rapid/R/site-library --timings EBImage_4.49.0.tar.gz StartedAt: 2025-02-04 14:12:47 -0500 (Tue, 04 Feb 2025) EndedAt: 2025-02-04 14:13:49 -0500 (Tue, 04 Feb 2025) EllapsedTime: 62.3 seconds RetCode: 0 Status: OK CheckDir: EBImage.Rcheck Warnings: 0