Package: EBImage Version: 4.49.0 Command: /home/rapidbuild/bbs-3.21-bioc-rapid/R/bin/R CMD INSTALL EBImage StartedAt: 2025-02-04 12:13:07 -0500 (Tue, 04 Feb 2025) EndedAt: 2025-02-04 12:13:17 -0500 (Tue, 04 Feb 2025) EllapsedTime: 10.2 seconds RetCode: 0 Status: OK