Package: GOstats Version: 2.73.0 Command: /home/rapidbuild/bbs-3.21-bioc-rapid/R/bin/R CMD build --keep-empty-dirs --no-resave-data GOstats StartedAt: 2025-02-10 07:02:27 -0500 (Mon, 10 Feb 2025) EndedAt: 2025-02-10 07:08:50 -0500 (Mon, 10 Feb 2025) EllapsedTime: 383.2 seconds RetCode: 1 Status: ERROR PackageFile: None PackageFileSize: NA