Package: GOstats Version: 2.73.0 Command: /home/rapidbuild/bbs-3.21-bioc-rapid/R/bin/R CMD check --install=check:GOstats.install-out.txt --library=/home/rapidbuild/bbs-3.21-bioc-rapid/R/site-library --timings GOstats_2.73.0.tar.gz StartedAt: 2025-02-10 02:56:30 -0500 (Mon, 10 Feb 2025) EndedAt: 2025-02-10 03:06:54 -0500 (Mon, 10 Feb 2025) EllapsedTime: 623.9 seconds RetCode: 1 Status: ERROR CheckDir: GOstats.Rcheck Warnings: NA