Package: IRanges Version: 2.41.2 Command: /home/rapidbuild/bbs-3.21-bioc-rapid/R/bin/R CMD build --keep-empty-dirs --no-resave-data IRanges StartedAt: 2025-02-04 13:03:03 -0500 (Tue, 04 Feb 2025) EndedAt: 2025-02-04 13:04:00 -0500 (Tue, 04 Feb 2025) EllapsedTime: 57.3 seconds RetCode: 0 Status: OK PackageFile: IRanges_2.41.2.tar.gz PackageFileSize: 470 KiB