Package: IRanges Version: 2.41.2 Command: /home/rapidbuild/bbs-3.21-bioc-rapid/R/bin/R CMD INSTALL IRanges StartedAt: 2025-02-10 06:12:10 -0500 (Mon, 10 Feb 2025) EndedAt: 2025-02-10 06:12:56 -0500 (Mon, 10 Feb 2025) EllapsedTime: 46.0 seconds RetCode: 0 Status: OK