Package: MatrixGenerics Version: 1.19.1 Command: /home/rapidbuild/bbs-3.21-bioc-rapid/R/bin/R CMD build --keep-empty-dirs --no-resave-data MatrixGenerics StartedAt: 2025-02-05 07:10:15 -0500 (Wed, 05 Feb 2025) EndedAt: 2025-02-05 07:10:16 -0500 (Wed, 05 Feb 2025) EllapsedTime: 1.0 seconds RetCode: 0 Status: OK PackageFile: MatrixGenerics_1.19.1.tar.gz PackageFileSize: 31.26 KiB