Package: MatrixGenerics Version: 1.19.1 Command: /home/rapidbuild/bbs-3.21-bioc-rapid/R/bin/R CMD INSTALL MatrixGenerics StartedAt: 2025-02-05 06:05:52 -0500 (Wed, 05 Feb 2025) EndedAt: 2025-02-05 06:05:55 -0500 (Wed, 05 Feb 2025) EllapsedTime: 3.0 seconds RetCode: 0 Status: OK