Package: MsDataHub Version: 1.7.0 Command: /home/rapidbuild/bbs-3.21-bioc-rapid/R/bin/R CMD INSTALL MsDataHub StartedAt: 2025-02-10 06:22:17 -0500 (Mon, 10 Feb 2025) EndedAt: 2025-02-10 06:22:29 -0500 (Mon, 10 Feb 2025) EllapsedTime: 12.0 seconds RetCode: 0 Status: OK