Package: QFeatures Version: 1.17.2 Command: /home/rapidbuild/bbs-3.21-bioc-rapid/R/bin/R CMD INSTALL QFeatures StartedAt: 2025-02-13 12:20:44 -0500 (Thu, 13 Feb 2025) EndedAt: 2025-02-13 12:21:09 -0500 (Thu, 13 Feb 2025) EllapsedTime: 25.2 seconds RetCode: 0 Status: OK