Package: ROC Version: 1.83.0 Command: /home/rapidbuild/bbs-3.21-bioc-rapid/R/bin/R CMD check --install=check:ROC.install-out.txt --library=/home/rapidbuild/bbs-3.21-bioc-rapid/R/site-library --timings ROC_1.83.0.tar.gz StartedAt: 2025-02-10 09:25:46 -0500 (Mon, 10 Feb 2025) EndedAt: 2025-02-10 09:26:00 -0500 (Mon, 10 Feb 2025) EllapsedTime: 14.7 seconds RetCode: 0 Status: OK CheckDir: ROC.Rcheck Warnings: 0