Package: Rhtslib Version: 3.3.1 Command: /home/rapidbuild/bbs-3.21-bioc-rapid/R/bin/R CMD build --keep-empty-dirs --no-resave-data Rhtslib StartedAt: 2025-02-10 07:31:04 -0500 (Mon, 10 Feb 2025) EndedAt: 2025-02-10 07:32:14 -0500 (Mon, 10 Feb 2025) EllapsedTime: 70.0 seconds RetCode: 0 Status: OK PackageFile: Rhtslib_3.3.1.tar.gz PackageFileSize: 4.91 MiB