Package: Rhtslib Version: 3.3.1 Command: /home/rapidbuild/bbs-3.21-bioc-rapid/R/bin/R CMD check --install=check:Rhtslib.install-out.txt --library=/home/rapidbuild/bbs-3.21-bioc-rapid/R/site-library --timings Rhtslib_3.3.1.tar.gz StartedAt: 2025-02-10 09:25:32 -0500 (Mon, 10 Feb 2025) EndedAt: 2025-02-10 09:25:46 -0500 (Mon, 10 Feb 2025) EllapsedTime: 13.3 seconds RetCode: 0 Status: OK CheckDir: Rhtslib.Rcheck Warnings: 0