Package: Rhtslib Version: 3.3.1 Command: /home/rapidbuild/bbs-3.21-bioc-rapid/R/bin/R CMD INSTALL Rhtslib StartedAt: 2025-02-10 06:04:33 -0500 (Mon, 10 Feb 2025) EndedAt: 2025-02-10 06:06:01 -0500 (Mon, 10 Feb 2025) EllapsedTime: 88.3 seconds RetCode: 0 Status: OK