Package: SpatialExperiment Version: 1.17.0 Command: /home/rapidbuild/bbs-3.21-bioc-rapid/R/bin/R CMD build --keep-empty-dirs --no-resave-data SpatialExperiment StartedAt: 2025-02-05 07:40:53 -0500 (Wed, 05 Feb 2025) EndedAt: 2025-02-05 07:41:43 -0500 (Wed, 05 Feb 2025) EllapsedTime: 49.6 seconds RetCode: 0 Status: OK PackageFile: SpatialExperiment_1.17.0.tar.gz PackageFileSize: 5.156 MiB