Package: SpatialExperiment Version: 1.17.0 Command: /home/rapidbuild/bbs-3.21-bioc-rapid/R/bin/R CMD check --install=check:SpatialExperiment.install-out.txt --library=/home/rapidbuild/bbs-3.21-bioc-rapid/R/site-library --timings SpatialExperiment_1.17.0.tar.gz StartedAt: 2025-02-05 09:34:50 -0500 (Wed, 05 Feb 2025) EndedAt: 2025-02-05 09:38:09 -0500 (Wed, 05 Feb 2025) EllapsedTime: 199.3 seconds RetCode: 0 Status: OK CheckDir: SpatialExperiment.Rcheck Warnings: 0