Package: SpatialExperiment Version: 1.17.0 Command: /home/rapidbuild/bbs-3.21-bioc-rapid/R/bin/R CMD INSTALL SpatialExperiment StartedAt: 2025-02-05 06:19:42 -0500 (Wed, 05 Feb 2025) EndedAt: 2025-02-05 06:20:06 -0500 (Wed, 05 Feb 2025) EllapsedTime: 23.7 seconds RetCode: 0 Status: OK