Package: alabaster.matrix Version: 1.7.7 Maintainer: Aaron Lun MaintainerEmail: infinite.monkeys.with.keyboards at gmail.com git_url: https://git.bioconductor.org/packages/alabaster.matrix git_branch: devel git_last_commit: e3f095f git_last_commit_date: 2025-02-12 12:27:18 -0500 (Wed, 12 Feb 2025)