Package: alabaster.matrix Version: 1.7.6 Command: /home/rapidbuild/bbs-3.21-bioc-rapid/R/bin/R CMD build --keep-empty-dirs --no-resave-data alabaster.matrix StartedAt: 2025-02-10 06:31:06 -0500 (Mon, 10 Feb 2025) EndedAt: 2025-02-10 06:31:57 -0500 (Mon, 10 Feb 2025) EllapsedTime: 51.3 seconds RetCode: 0 Status: OK PackageFile: alabaster.matrix_1.7.6.tar.gz PackageFileSize: 273.6 KiB