Package: beachmat Version: 2.23.6 Command: /home/rapidbuild/bbs-3.21-bioc-rapid/R/bin/R CMD check --install=check:beachmat.install-out.txt --library=/home/rapidbuild/bbs-3.21-bioc-rapid/R/site-library --timings beachmat_2.23.6.tar.gz StartedAt: 2025-02-10 08:01:37 -0500 (Mon, 10 Feb 2025) EndedAt: 2025-02-10 08:06:47 -0500 (Mon, 10 Feb 2025) EllapsedTime: 309.3 seconds RetCode: 0 Status: WARNINGS CheckDir: beachmat.Rcheck Warnings: 1