Package: clusterProfiler Version: 4.15.1 Command: /home/rapidbuild/bbs-3.21-bioc-rapid/R/bin/R CMD INSTALL clusterProfiler StartedAt: 2025-02-13 12:25:41 -0500 (Thu, 13 Feb 2025) EndedAt: 2025-02-13 12:25:59 -0500 (Thu, 13 Feb 2025) EllapsedTime: 18.4 seconds RetCode: 0 Status: OK