Package: fgsea Version: 1.33.2 Command: /home/rapidbuild/bbs-3.21-bioc-rapid/R/bin/R CMD build --keep-empty-dirs --no-resave-data fgsea StartedAt: 2025-02-10 06:52:20 -0500 (Mon, 10 Feb 2025) EndedAt: 2025-02-10 06:57:04 -0500 (Mon, 10 Feb 2025) EllapsedTime: 283.7 seconds RetCode: 0 Status: OK PackageFile: fgsea_1.33.2.tar.gz PackageFileSize: 4.748 MiB