Package: fgsea Version: 1.33.2 Command: /home/rapidbuild/bbs-3.21-bioc-rapid/R/bin/R CMD check --install=check:fgsea.install-out.txt --library=/home/rapidbuild/bbs-3.21-bioc-rapid/R/site-library --timings fgsea_1.33.2.tar.gz StartedAt: 2025-02-10 08:33:37 -0500 (Mon, 10 Feb 2025) EndedAt: 2025-02-10 08:46:54 -0500 (Mon, 10 Feb 2025) EllapsedTime: 796.5 seconds RetCode: 0 Status: OK CheckDir: fgsea.Rcheck Warnings: 0